BEGIN:VCALENDAR
PRODID:-//HKUST Drupal Platform//EN
VERSION:2.0
BEGIN:VTIMEZONE
TZID:Asia/Hong_Kong
BEGIN:STANDARD
DTSTART:20071104T020000
TZOFFSETFROM:+0700
TZOFFSETTO:+0800
TZNAME:HKT
END:STANDARD
END:VTIMEZONE
BEGIN:VEVENT
DTSTAMP;TZID=Asia/Hong_Kong:20260419T223430
DTSTART;TZID=Asia/Hong_Kong:20211122T160000
DTEND;TZID=Asia/Hong_Kong:20211122T173000
LOCATION:Room 3301, SHSS Seminar Room (Lift no. 2)
SUMMARY:Division of Humanities - Research Seminar - Shortcut English: A Pidgin Language and “Racialization” at a Chinese-Operated Mine in Zambia
UID:27999
END:VEVENT
END:VCALENDAR