BEGIN:VCALENDAR
PRODID:-//HKUST Drupal Platform//EN
VERSION:2.0
BEGIN:VTIMEZONE
TZID:Asia/Hong_Kong
BEGIN:STANDARD
DTSTART:20071104T020000
TZOFFSETFROM:+0700
TZOFFSETTO:+0800
TZNAME:HKT
END:STANDARD
END:VTIMEZONE
BEGIN:VEVENT
DTSTAMP;TZID=Asia/Hong_Kong:20260424T011050
DTSTART;TZID=Asia/Hong_Kong:20250517T083000
DTEND;TZID=Asia/Hong_Kong:20250517T220000
LOCATION:Nankok Cafe, Nankok Cafe, 3 Nankok Road, Kowloon City, Kowloon
SUMMARY:重見龍城攝影展 Dragon\'s Tales Photo Exhibition
UID:29560
END:VEVENT
BEGIN:VEVENT
DTSTAMP;TZID=Asia/Hong_Kong:20260424T011050
DTSTART;TZID=Asia/Hong_Kong:20250518T083000
DTEND;TZID=Asia/Hong_Kong:20250518T220000
LOCATION:Nankok Cafe, Nankok Cafe, 3 Nankok Road, Kowloon City, Kowloon
SUMMARY:重見龍城攝影展 Dragon\'s Tales Photo Exhibition
UID:29560
END:VEVENT
BEGIN:VEVENT
DTSTAMP;TZID=Asia/Hong_Kong:20260424T011050
DTSTART;TZID=Asia/Hong_Kong:20250519T083000
DTEND;TZID=Asia/Hong_Kong:20250519T220000
LOCATION:Nankok Cafe, Nankok Cafe, 3 Nankok Road, Kowloon City, Kowloon
SUMMARY:重見龍城攝影展 Dragon\'s Tales Photo Exhibition
UID:29560
END:VEVENT
BEGIN:VEVENT
DTSTAMP;TZID=Asia/Hong_Kong:20260424T011050
DTSTART;TZID=Asia/Hong_Kong:20250520T083000
DTEND;TZID=Asia/Hong_Kong:20250520T220000
LOCATION:Nankok Cafe, Nankok Cafe, 3 Nankok Road, Kowloon City, Kowloon
SUMMARY:重見龍城攝影展 Dragon\'s Tales Photo Exhibition
UID:29560
END:VEVENT
BEGIN:VEVENT
DTSTAMP;TZID=Asia/Hong_Kong:20260424T011050
DTSTART;TZID=Asia/Hong_Kong:20250521T083000
DTEND;TZID=Asia/Hong_Kong:20250521T220000
LOCATION:Nankok Cafe, Nankok Cafe, 3 Nankok Road, Kowloon City, Kowloon
SUMMARY:重見龍城攝影展 Dragon\'s Tales Photo Exhibition
UID:29560
END:VEVENT
BEGIN:VEVENT
DTSTAMP;TZID=Asia/Hong_Kong:20260424T011050
DTSTART;TZID=Asia/Hong_Kong:20250522T083000
DTEND;TZID=Asia/Hong_Kong:20250522T220000
LOCATION:Nankok Cafe, Nankok Cafe, 3 Nankok Road, Kowloon City, Kowloon
SUMMARY:重見龍城攝影展 Dragon\'s Tales Photo Exhibition
UID:29560
END:VEVENT
BEGIN:VEVENT
DTSTAMP;TZID=Asia/Hong_Kong:20260424T011050
DTSTART;TZID=Asia/Hong_Kong:20250523T083000
DTEND;TZID=Asia/Hong_Kong:20250523T220000
LOCATION:Nankok Cafe, Nankok Cafe, 3 Nankok Road, Kowloon City, Kowloon
SUMMARY:重見龍城攝影展 Dragon\'s Tales Photo Exhibition
UID:29560
END:VEVENT
BEGIN:VEVENT
DTSTAMP;TZID=Asia/Hong_Kong:20260424T011050
DTSTART;TZID=Asia/Hong_Kong:20250524T083000
DTEND;TZID=Asia/Hong_Kong:20250524T220000
LOCATION:Nankok Cafe, Nankok Cafe, 3 Nankok Road, Kowloon City, Kowloon
SUMMARY:重見龍城攝影展 Dragon\'s Tales Photo Exhibition
UID:29560
END:VEVENT
BEGIN:VEVENT
DTSTAMP;TZID=Asia/Hong_Kong:20260424T011050
DTSTART;TZID=Asia/Hong_Kong:20250525T083000
DTEND;TZID=Asia/Hong_Kong:20250525T220000
LOCATION:Nankok Cafe, Nankok Cafe, 3 Nankok Road, Kowloon City, Kowloon
SUMMARY:重見龍城攝影展 Dragon\'s Tales Photo Exhibition
UID:29560
END:VEVENT
BEGIN:VEVENT
DTSTAMP;TZID=Asia/Hong_Kong:20260424T011050
DTSTART;TZID=Asia/Hong_Kong:20250526T083000
DTEND;TZID=Asia/Hong_Kong:20250526T220000
LOCATION:Nankok Cafe, Nankok Cafe, 3 Nankok Road, Kowloon City, Kowloon
SUMMARY:重見龍城攝影展 Dragon\'s Tales Photo Exhibition
UID:29560
END:VEVENT
BEGIN:VEVENT
DTSTAMP;TZID=Asia/Hong_Kong:20260424T011050
DTSTART;TZID=Asia/Hong_Kong:20250527T083000
DTEND;TZID=Asia/Hong_Kong:20250527T220000
LOCATION:Nankok Cafe, Nankok Cafe, 3 Nankok Road, Kowloon City, Kowloon
SUMMARY:重見龍城攝影展 Dragon\'s Tales Photo Exhibition
UID:29560
END:VEVENT
BEGIN:VEVENT
DTSTAMP;TZID=Asia/Hong_Kong:20260424T011050
DTSTART;TZID=Asia/Hong_Kong:20250528T083000
DTEND;TZID=Asia/Hong_Kong:20250528T220000
LOCATION:Nankok Cafe, Nankok Cafe, 3 Nankok Road, Kowloon City, Kowloon
SUMMARY:重見龍城攝影展 Dragon\'s Tales Photo Exhibition
UID:29560
END:VEVENT
BEGIN:VEVENT
DTSTAMP;TZID=Asia/Hong_Kong:20260424T011050
DTSTART;TZID=Asia/Hong_Kong:20250529T083000
DTEND;TZID=Asia/Hong_Kong:20250529T220000
LOCATION:Nankok Cafe, Nankok Cafe, 3 Nankok Road, Kowloon City, Kowloon
SUMMARY:重見龍城攝影展 Dragon\'s Tales Photo Exhibition
UID:29560
END:VEVENT
BEGIN:VEVENT
DTSTAMP;TZID=Asia/Hong_Kong:20260424T011050
DTSTART;TZID=Asia/Hong_Kong:20250530T083000
DTEND;TZID=Asia/Hong_Kong:20250530T220000
LOCATION:Nankok Cafe, Nankok Cafe, 3 Nankok Road, Kowloon City, Kowloon
SUMMARY:重見龍城攝影展 Dragon\'s Tales Photo Exhibition
UID:29560
END:VEVENT
BEGIN:VEVENT
DTSTAMP;TZID=Asia/Hong_Kong:20260424T011050
DTSTART;TZID=Asia/Hong_Kong:20250531T083000
DTEND;TZID=Asia/Hong_Kong:20250531T220000
LOCATION:Nankok Cafe, Nankok Cafe, 3 Nankok Road, Kowloon City, Kowloon
SUMMARY:重見龍城攝影展 Dragon\'s Tales Photo Exhibition
UID:29560
END:VEVENT
BEGIN:VEVENT
DTSTAMP;TZID=Asia/Hong_Kong:20260424T011050
DTSTART;TZID=Asia/Hong_Kong:20250601T083000
DTEND;TZID=Asia/Hong_Kong:20250601T220000
LOCATION:Nankok Cafe, Nankok Cafe, 3 Nankok Road, Kowloon City, Kowloon
SUMMARY:重見龍城攝影展 Dragon\'s Tales Photo Exhibition
UID:29560
END:VEVENT
BEGIN:VEVENT
DTSTAMP;TZID=Asia/Hong_Kong:20260424T011050
DTSTART;TZID=Asia/Hong_Kong:20250602T083000
DTEND;TZID=Asia/Hong_Kong:20250602T220000
LOCATION:Nankok Cafe, Nankok Cafe, 3 Nankok Road, Kowloon City, Kowloon
SUMMARY:重見龍城攝影展 Dragon\'s Tales Photo Exhibition
UID:29560
END:VEVENT
BEGIN:VEVENT
DTSTAMP;TZID=Asia/Hong_Kong:20260424T011050
DTSTART;TZID=Asia/Hong_Kong:20250603T083000
DTEND;TZID=Asia/Hong_Kong:20250603T220000
LOCATION:Nankok Cafe, Nankok Cafe, 3 Nankok Road, Kowloon City, Kowloon
SUMMARY:重見龍城攝影展 Dragon\'s Tales Photo Exhibition
UID:29560
END:VEVENT
BEGIN:VEVENT
DTSTAMP;TZID=Asia/Hong_Kong:20260424T011050
DTSTART;TZID=Asia/Hong_Kong:20250604T083000
DTEND;TZID=Asia/Hong_Kong:20250604T220000
LOCATION:Nankok Cafe, Nankok Cafe, 3 Nankok Road, Kowloon City, Kowloon
SUMMARY:重見龍城攝影展 Dragon\'s Tales Photo Exhibition
UID:29560
END:VEVENT
BEGIN:VEVENT
DTSTAMP;TZID=Asia/Hong_Kong:20260424T011050
DTSTART;TZID=Asia/Hong_Kong:20250605T083000
DTEND;TZID=Asia/Hong_Kong:20250605T220000
LOCATION:Nankok Cafe, Nankok Cafe, 3 Nankok Road, Kowloon City, Kowloon
SUMMARY:重見龍城攝影展 Dragon\'s Tales Photo Exhibition
UID:29560
END:VEVENT
BEGIN:VEVENT
DTSTAMP;TZID=Asia/Hong_Kong:20260424T011050
DTSTART;TZID=Asia/Hong_Kong:20250606T083000
DTEND;TZID=Asia/Hong_Kong:20250606T220000
LOCATION:Nankok Cafe, Nankok Cafe, 3 Nankok Road, Kowloon City, Kowloon
SUMMARY:重見龍城攝影展 Dragon\'s Tales Photo Exhibition
UID:29560
END:VEVENT
BEGIN:VEVENT
DTSTAMP;TZID=Asia/Hong_Kong:20260424T011050
DTSTART;TZID=Asia/Hong_Kong:20250607T083000
DTEND;TZID=Asia/Hong_Kong:20250607T220000
LOCATION:Nankok Cafe, Nankok Cafe, 3 Nankok Road, Kowloon City, Kowloon
SUMMARY:重見龍城攝影展 Dragon\'s Tales Photo Exhibition
UID:29560
END:VEVENT
BEGIN:VEVENT
DTSTAMP;TZID=Asia/Hong_Kong:20260424T011050
DTSTART;TZID=Asia/Hong_Kong:20250608T083000
DTEND;TZID=Asia/Hong_Kong:20250608T220000
LOCATION:Nankok Cafe, Nankok Cafe, 3 Nankok Road, Kowloon City, Kowloon
SUMMARY:重見龍城攝影展 Dragon\'s Tales Photo Exhibition
UID:29560
END:VEVENT
BEGIN:VEVENT
DTSTAMP;TZID=Asia/Hong_Kong:20260424T011050
DTSTART;TZID=Asia/Hong_Kong:20250609T083000
DTEND;TZID=Asia/Hong_Kong:20250609T220000
LOCATION:Nankok Cafe, Nankok Cafe, 3 Nankok Road, Kowloon City, Kowloon
SUMMARY:重見龍城攝影展 Dragon\'s Tales Photo Exhibition
UID:29560
END:VEVENT
BEGIN:VEVENT
DTSTAMP;TZID=Asia/Hong_Kong:20260424T011050
DTSTART;TZID=Asia/Hong_Kong:20250610T083000
DTEND;TZID=Asia/Hong_Kong:20250610T220000
LOCATION:Nankok Cafe, Nankok Cafe, 3 Nankok Road, Kowloon City, Kowloon
SUMMARY:重見龍城攝影展 Dragon\'s Tales Photo Exhibition
UID:29560
END:VEVENT
BEGIN:VEVENT
DTSTAMP;TZID=Asia/Hong_Kong:20260424T011050
DTSTART;TZID=Asia/Hong_Kong:20250611T083000
DTEND;TZID=Asia/Hong_Kong:20250611T220000
LOCATION:Nankok Cafe, Nankok Cafe, 3 Nankok Road, Kowloon City, Kowloon
SUMMARY:重見龍城攝影展 Dragon\'s Tales Photo Exhibition
UID:29560
END:VEVENT
BEGIN:VEVENT
DTSTAMP;TZID=Asia/Hong_Kong:20260424T011050
DTSTART;TZID=Asia/Hong_Kong:20250612T083000
DTEND;TZID=Asia/Hong_Kong:20250612T220000
LOCATION:Nankok Cafe, Nankok Cafe, 3 Nankok Road, Kowloon City, Kowloon
SUMMARY:重見龍城攝影展 Dragon\'s Tales Photo Exhibition
UID:29560
END:VEVENT
BEGIN:VEVENT
DTSTAMP;TZID=Asia/Hong_Kong:20260424T011050
DTSTART;TZID=Asia/Hong_Kong:20250613T083000
DTEND;TZID=Asia/Hong_Kong:20250613T220000
LOCATION:Nankok Cafe, Nankok Cafe, 3 Nankok Road, Kowloon City, Kowloon
SUMMARY:重見龍城攝影展 Dragon\'s Tales Photo Exhibition
UID:29560
END:VEVENT
BEGIN:VEVENT
DTSTAMP;TZID=Asia/Hong_Kong:20260424T011050
DTSTART;TZID=Asia/Hong_Kong:20250614T083000
DTEND;TZID=Asia/Hong_Kong:20250614T220000
LOCATION:Nankok Cafe, Nankok Cafe, 3 Nankok Road, Kowloon City, Kowloon
SUMMARY:重見龍城攝影展 Dragon\'s Tales Photo Exhibition
UID:29560
END:VEVENT
BEGIN:VEVENT
DTSTAMP;TZID=Asia/Hong_Kong:20260424T011050
DTSTART;TZID=Asia/Hong_Kong:20250615T083000
DTEND;TZID=Asia/Hong_Kong:20250615T220000
LOCATION:Nankok Cafe, Nankok Cafe, 3 Nankok Road, Kowloon City, Kowloon
SUMMARY:重見龍城攝影展 Dragon\'s Tales Photo Exhibition
UID:29560
END:VEVENT
BEGIN:VEVENT
DTSTAMP;TZID=Asia/Hong_Kong:20260424T011050
DTSTART;TZID=Asia/Hong_Kong:20250616T083000
DTEND;TZID=Asia/Hong_Kong:20250616T220000
LOCATION:Nankok Cafe, Nankok Cafe, 3 Nankok Road, Kowloon City, Kowloon
SUMMARY:重見龍城攝影展 Dragon\'s Tales Photo Exhibition
UID:29560
END:VEVENT
BEGIN:VEVENT
DTSTAMP;TZID=Asia/Hong_Kong:20260424T011050
DTSTART;TZID=Asia/Hong_Kong:20250617T083000
DTEND;TZID=Asia/Hong_Kong:20250617T220000
LOCATION:Nankok Cafe, Nankok Cafe, 3 Nankok Road, Kowloon City, Kowloon
SUMMARY:重見龍城攝影展 Dragon\'s Tales Photo Exhibition
UID:29560
END:VEVENT
BEGIN:VEVENT
DTSTAMP;TZID=Asia/Hong_Kong:20260424T011050
DTSTART;TZID=Asia/Hong_Kong:20250618T083000
DTEND;TZID=Asia/Hong_Kong:20250618T220000
LOCATION:Nankok Cafe, Nankok Cafe, 3 Nankok Road, Kowloon City, Kowloon
SUMMARY:重見龍城攝影展 Dragon\'s Tales Photo Exhibition
UID:29560
END:VEVENT
BEGIN:VEVENT
DTSTAMP;TZID=Asia/Hong_Kong:20260424T011050
DTSTART;TZID=Asia/Hong_Kong:20250619T083000
DTEND;TZID=Asia/Hong_Kong:20250619T220000
LOCATION:Nankok Cafe, Nankok Cafe, 3 Nankok Road, Kowloon City, Kowloon
SUMMARY:重見龍城攝影展 Dragon\'s Tales Photo Exhibition
UID:29560
END:VEVENT
BEGIN:VEVENT
DTSTAMP;TZID=Asia/Hong_Kong:20260424T011050
DTSTART;TZID=Asia/Hong_Kong:20250620T083000
DTEND;TZID=Asia/Hong_Kong:20250620T220000
LOCATION:Nankok Cafe, Nankok Cafe, 3 Nankok Road, Kowloon City, Kowloon
SUMMARY:重見龍城攝影展 Dragon\'s Tales Photo Exhibition
UID:29560
END:VEVENT
BEGIN:VEVENT
DTSTAMP;TZID=Asia/Hong_Kong:20260424T011050
DTSTART;TZID=Asia/Hong_Kong:20250621T083000
DTEND;TZID=Asia/Hong_Kong:20250621T220000
LOCATION:Nankok Cafe, Nankok Cafe, 3 Nankok Road, Kowloon City, Kowloon
SUMMARY:重見龍城攝影展 Dragon\'s Tales Photo Exhibition
UID:29560
END:VEVENT
BEGIN:VEVENT
DTSTAMP;TZID=Asia/Hong_Kong:20260424T011050
DTSTART;TZID=Asia/Hong_Kong:20250622T083000
DTEND;TZID=Asia/Hong_Kong:20250622T220000
LOCATION:Nankok Cafe, Nankok Cafe, 3 Nankok Road, Kowloon City, Kowloon
SUMMARY:重見龍城攝影展 Dragon\'s Tales Photo Exhibition
UID:29560
END:VEVENT
BEGIN:VEVENT
DTSTAMP;TZID=Asia/Hong_Kong:20260424T011050
DTSTART;TZID=Asia/Hong_Kong:20250623T083000
DTEND;TZID=Asia/Hong_Kong:20250623T220000
LOCATION:Nankok Cafe, Nankok Cafe, 3 Nankok Road, Kowloon City, Kowloon
SUMMARY:重見龍城攝影展 Dragon\'s Tales Photo Exhibition
UID:29560
END:VEVENT
BEGIN:VEVENT
DTSTAMP;TZID=Asia/Hong_Kong:20260424T011050
DTSTART;TZID=Asia/Hong_Kong:20250624T083000
DTEND;TZID=Asia/Hong_Kong:20250624T220000
LOCATION:Nankok Cafe, Nankok Cafe, 3 Nankok Road, Kowloon City, Kowloon
SUMMARY:重見龍城攝影展 Dragon\'s Tales Photo Exhibition
UID:29560
END:VEVENT
BEGIN:VEVENT
DTSTAMP;TZID=Asia/Hong_Kong:20260424T011050
DTSTART;TZID=Asia/Hong_Kong:20250625T083000
DTEND;TZID=Asia/Hong_Kong:20250625T220000
LOCATION:Nankok Cafe, Nankok Cafe, 3 Nankok Road, Kowloon City, Kowloon
SUMMARY:重見龍城攝影展 Dragon\'s Tales Photo Exhibition
UID:29560
END:VEVENT
BEGIN:VEVENT
DTSTAMP;TZID=Asia/Hong_Kong:20260424T011050
DTSTART;TZID=Asia/Hong_Kong:20250626T083000
DTEND;TZID=Asia/Hong_Kong:20250626T220000
LOCATION:Nankok Cafe, Nankok Cafe, 3 Nankok Road, Kowloon City, Kowloon
SUMMARY:重見龍城攝影展 Dragon\'s Tales Photo Exhibition
UID:29560
END:VEVENT
BEGIN:VEVENT
DTSTAMP;TZID=Asia/Hong_Kong:20260424T011050
DTSTART;TZID=Asia/Hong_Kong:20250627T083000
DTEND;TZID=Asia/Hong_Kong:20250627T220000
LOCATION:Nankok Cafe, Nankok Cafe, 3 Nankok Road, Kowloon City, Kowloon
SUMMARY:重見龍城攝影展 Dragon\'s Tales Photo Exhibition
UID:29560
END:VEVENT
BEGIN:VEVENT
DTSTAMP;TZID=Asia/Hong_Kong:20260424T011050
DTSTART;TZID=Asia/Hong_Kong:20250628T083000
DTEND;TZID=Asia/Hong_Kong:20250628T220000
LOCATION:Nankok Cafe, Nankok Cafe, 3 Nankok Road, Kowloon City, Kowloon
SUMMARY:重見龍城攝影展 Dragon\'s Tales Photo Exhibition
UID:29560
END:VEVENT
BEGIN:VEVENT
DTSTAMP;TZID=Asia/Hong_Kong:20260424T011050
DTSTART;TZID=Asia/Hong_Kong:20250629T083000
DTEND;TZID=Asia/Hong_Kong:20250629T220000
LOCATION:Nankok Cafe, Nankok Cafe, 3 Nankok Road, Kowloon City, Kowloon
SUMMARY:重見龍城攝影展 Dragon\'s Tales Photo Exhibition
UID:29560
END:VEVENT
BEGIN:VEVENT
DTSTAMP;TZID=Asia/Hong_Kong:20260424T011050
DTSTART;TZID=Asia/Hong_Kong:20250630T083000
DTEND;TZID=Asia/Hong_Kong:20250630T220000
LOCATION:Nankok Cafe, Nankok Cafe, 3 Nankok Road, Kowloon City, Kowloon
SUMMARY:重見龍城攝影展 Dragon\'s Tales Photo Exhibition
UID:29560
END:VEVENT
BEGIN:VEVENT
DTSTAMP;TZID=Asia/Hong_Kong:20260424T011050
DTSTART;TZID=Asia/Hong_Kong:20250701T083000
DTEND;TZID=Asia/Hong_Kong:20250701T220000
LOCATION:Nankok Cafe, Nankok Cafe, 3 Nankok Road, Kowloon City, Kowloon
SUMMARY:重見龍城攝影展 Dragon\'s Tales Photo Exhibition
UID:29560
END:VEVENT
BEGIN:VEVENT
DTSTAMP;TZID=Asia/Hong_Kong:20260424T011050
DTSTART;TZID=Asia/Hong_Kong:20250702T083000
DTEND;TZID=Asia/Hong_Kong:20250702T220000
LOCATION:Nankok Cafe, Nankok Cafe, 3 Nankok Road, Kowloon City, Kowloon
SUMMARY:重見龍城攝影展 Dragon\'s Tales Photo Exhibition
UID:29560
END:VEVENT
BEGIN:VEVENT
DTSTAMP;TZID=Asia/Hong_Kong:20260424T011050
DTSTART;TZID=Asia/Hong_Kong:20250703T083000
DTEND;TZID=Asia/Hong_Kong:20250703T220000
LOCATION:Nankok Cafe, Nankok Cafe, 3 Nankok Road, Kowloon City, Kowloon
SUMMARY:重見龍城攝影展 Dragon\'s Tales Photo Exhibition
UID:29560
END:VEVENT
BEGIN:VEVENT
DTSTAMP;TZID=Asia/Hong_Kong:20260424T011050
DTSTART;TZID=Asia/Hong_Kong:20250704T083000
DTEND;TZID=Asia/Hong_Kong:20250704T220000
LOCATION:Nankok Cafe, Nankok Cafe, 3 Nankok Road, Kowloon City, Kowloon
SUMMARY:重見龍城攝影展 Dragon\'s Tales Photo Exhibition
UID:29560
END:VEVENT
BEGIN:VEVENT
DTSTAMP;TZID=Asia/Hong_Kong:20260424T011050
DTSTART;TZID=Asia/Hong_Kong:20250705T083000
DTEND;TZID=Asia/Hong_Kong:20250705T220000
LOCATION:Nankok Cafe, Nankok Cafe, 3 Nankok Road, Kowloon City, Kowloon
SUMMARY:重見龍城攝影展 Dragon\'s Tales Photo Exhibition
UID:29560
END:VEVENT
BEGIN:VEVENT
DTSTAMP;TZID=Asia/Hong_Kong:20260424T011050
DTSTART;TZID=Asia/Hong_Kong:20250706T083000
DTEND;TZID=Asia/Hong_Kong:20250706T220000
LOCATION:Nankok Cafe, Nankok Cafe, 3 Nankok Road, Kowloon City, Kowloon
SUMMARY:重見龍城攝影展 Dragon\'s Tales Photo Exhibition
UID:29560
END:VEVENT
BEGIN:VEVENT
DTSTAMP;TZID=Asia/Hong_Kong:20260424T011050
DTSTART;TZID=Asia/Hong_Kong:20250707T083000
DTEND;TZID=Asia/Hong_Kong:20250707T220000
LOCATION:Nankok Cafe, Nankok Cafe, 3 Nankok Road, Kowloon City, Kowloon
SUMMARY:重見龍城攝影展 Dragon\'s Tales Photo Exhibition
UID:29560
END:VEVENT
BEGIN:VEVENT
DTSTAMP;TZID=Asia/Hong_Kong:20260424T011050
DTSTART;TZID=Asia/Hong_Kong:20250708T083000
DTEND;TZID=Asia/Hong_Kong:20250708T220000
LOCATION:Nankok Cafe, Nankok Cafe, 3 Nankok Road, Kowloon City, Kowloon
SUMMARY:重見龍城攝影展 Dragon\'s Tales Photo Exhibition
UID:29560
END:VEVENT
BEGIN:VEVENT
DTSTAMP;TZID=Asia/Hong_Kong:20260424T011050
DTSTART;TZID=Asia/Hong_Kong:20250709T083000
DTEND;TZID=Asia/Hong_Kong:20250709T220000
LOCATION:Nankok Cafe, Nankok Cafe, 3 Nankok Road, Kowloon City, Kowloon
SUMMARY:重見龍城攝影展 Dragon\'s Tales Photo Exhibition
UID:29560
END:VEVENT
BEGIN:VEVENT
DTSTAMP;TZID=Asia/Hong_Kong:20260424T011050
DTSTART;TZID=Asia/Hong_Kong:20250710T083000
DTEND;TZID=Asia/Hong_Kong:20250710T220000
LOCATION:Nankok Cafe, Nankok Cafe, 3 Nankok Road, Kowloon City, Kowloon
SUMMARY:重見龍城攝影展 Dragon\'s Tales Photo Exhibition
UID:29560
END:VEVENT
BEGIN:VEVENT
DTSTAMP;TZID=Asia/Hong_Kong:20260424T011050
DTSTART;TZID=Asia/Hong_Kong:20250711T083000
DTEND;TZID=Asia/Hong_Kong:20250711T220000
LOCATION:Nankok Cafe, Nankok Cafe, 3 Nankok Road, Kowloon City, Kowloon
SUMMARY:重見龍城攝影展 Dragon\'s Tales Photo Exhibition
UID:29560
END:VEVENT
BEGIN:VEVENT
DTSTAMP;TZID=Asia/Hong_Kong:20260424T011050
DTSTART;TZID=Asia/Hong_Kong:20250712T083000
DTEND;TZID=Asia/Hong_Kong:20250712T220000
LOCATION:Nankok Cafe, Nankok Cafe, 3 Nankok Road, Kowloon City, Kowloon
SUMMARY:重見龍城攝影展 Dragon\'s Tales Photo Exhibition
UID:29560
END:VEVENT
BEGIN:VEVENT
DTSTAMP;TZID=Asia/Hong_Kong:20260424T011050
DTSTART;TZID=Asia/Hong_Kong:20250713T083000
DTEND;TZID=Asia/Hong_Kong:20250713T220000
LOCATION:Nankok Cafe, Nankok Cafe, 3 Nankok Road, Kowloon City, Kowloon
SUMMARY:重見龍城攝影展 Dragon\'s Tales Photo Exhibition
UID:29560
END:VEVENT
BEGIN:VEVENT
DTSTAMP;TZID=Asia/Hong_Kong:20260424T011050
DTSTART;TZID=Asia/Hong_Kong:20250714T083000
DTEND;TZID=Asia/Hong_Kong:20250714T220000
LOCATION:Nankok Cafe, Nankok Cafe, 3 Nankok Road, Kowloon City, Kowloon
SUMMARY:重見龍城攝影展 Dragon\'s Tales Photo Exhibition
UID:29560
END:VEVENT
BEGIN:VEVENT
DTSTAMP;TZID=Asia/Hong_Kong:20260424T011050
DTSTART;TZID=Asia/Hong_Kong:20250715T083000
DTEND;TZID=Asia/Hong_Kong:20250715T220000
LOCATION:Nankok Cafe, Nankok Cafe, 3 Nankok Road, Kowloon City, Kowloon
SUMMARY:重見龍城攝影展 Dragon\'s Tales Photo Exhibition
UID:29560
END:VEVENT
BEGIN:VEVENT
DTSTAMP;TZID=Asia/Hong_Kong:20260424T011050
DTSTART;TZID=Asia/Hong_Kong:20250716T083000
DTEND;TZID=Asia/Hong_Kong:20250716T220000
LOCATION:Nankok Cafe, Nankok Cafe, 3 Nankok Road, Kowloon City, Kowloon
SUMMARY:重見龍城攝影展 Dragon\'s Tales Photo Exhibition
UID:29560
END:VEVENT
BEGIN:VEVENT
DTSTAMP;TZID=Asia/Hong_Kong:20260424T011050
DTSTART;TZID=Asia/Hong_Kong:20250717T083000
DTEND;TZID=Asia/Hong_Kong:20250717T220000
LOCATION:Nankok Cafe, Nankok Cafe, 3 Nankok Road, Kowloon City, Kowloon
SUMMARY:重見龍城攝影展 Dragon\'s Tales Photo Exhibition
UID:29560
END:VEVENT
BEGIN:VEVENT
DTSTAMP;TZID=Asia/Hong_Kong:20260424T011050
DTSTART;TZID=Asia/Hong_Kong:20250718T083000
DTEND;TZID=Asia/Hong_Kong:20250718T220000
LOCATION:Nankok Cafe, Nankok Cafe, 3 Nankok Road, Kowloon City, Kowloon
SUMMARY:重見龍城攝影展 Dragon\'s Tales Photo Exhibition
UID:29560
END:VEVENT
END:VCALENDAR