BEGIN:VCALENDAR
PRODID:-//HKUST Drupal Platform//EN
VERSION:2.0
BEGIN:VTIMEZONE
TZID:Asia/Hong_Kong
BEGIN:STANDARD
DTSTART:20071104T020000
TZOFFSETFROM:+0700
TZOFFSETTO:+0800
TZNAME:HKT
END:STANDARD
END:VTIMEZONE
BEGIN:VEVENT
DTSTAMP;TZID=Asia/Hong_Kong:20260423T023737
DTSTART;TZID=Asia/Hong_Kong:20200917T100000
DTEND;TZID=Asia/Hong_Kong:20200917T110000
LOCATION:Zoom Session
SUMMARY:Information Session of The Hong Kong Jockey Club Scholarships – Undergraduate Scholarship 2020/21
UID:26860
END:VEVENT
END:VCALENDAR